BEGIN:VCALENDAR
VERSION:2.0
PRODID:-//hacksw/handcal//NONSGML v1.0//EN
CALSCALE:GREGORIAN
BEGIN:VEVENT
DTSTART:20181225T070000Z
DTEND:20181225T080000Z
UID:e20120
DTSTAMP:20260421T085105Z
LOCATION:Nella and Leon Benoziyo Building for Biological Sciences
DESCRIPTION:Novel insights into the structure and function of microbial communities
SUMMARY:Novel insights into the structure and function of microbial communities
END:VEVENT
END:VCALENDAR