BEGIN:VCALENDAR
VERSION:2.0
PRODID:-//hacksw/handcal//NONSGML v1.0//EN
CALSCALE:GREGORIAN
BEGIN:VEVENT
DTSTART:20190106T100000Z
DTEND:20190106T110000Z
UID:e20136
DTSTAMP:20260420T005428Z
LOCATION:
DESCRIPTION:Waste to Energy Infrastructure – Will it happen in Israel?
SUMMARY:Waste to Energy Infrastructure – Will it happen in Israel?
END:VEVENT
END:VCALENDAR