BEGIN:VCALENDAR
VERSION:2.0
PRODID:-//hacksw/handcal//NONSGML v1.0//EN
CALSCALE:GREGORIAN
BEGIN:VEVENT
DTSTART:20190307T110000Z
DTEND:20190307T120000Z
UID:e20142
DTSTAMP:20260421T085116Z
LOCATION:Max and Lillian Candiotty Building
DESCRIPTION:Designing precision nanomedicines to diagnose\, excise and treat melanoma brain metastases in three dimensions
SUMMARY:Designing precision nanomedicines to diagnose\, excise and treat melanoma brain metastases in three dimensions
END:VEVENT
END:VCALENDAR