BEGIN:VCALENDAR
VERSION:2.0
PRODID:-//hacksw/handcal//NONSGML v1.0//EN
CALSCALE:GREGORIAN
BEGIN:VEVENT
DTSTART:20190129T073000Z
DTEND:20190129T080000Z
UID:e20152
DTSTAMP:20260421T082613Z
LOCATION:Nella and Leon Benoziyo Building for Biological Sciences
DESCRIPTION:Semaphorins – BDNF balance in the sexually dimorphic innervation of the mammary gland
SUMMARY:Semaphorins – BDNF balance in the sexually dimorphic innervation of the mammary gland
END:VEVENT
END:VCALENDAR