BEGIN:VCALENDAR
VERSION:2.0
PRODID:-//hacksw/handcal//NONSGML v1.0//EN
CALSCALE:GREGORIAN
BEGIN:VEVENT
DTSTART:20190430T073000Z
DTEND:20190430T080000Z
UID:e20188
DTSTAMP:20260420T045938Z
LOCATION:Nella and Leon Benoziyo Building for Biological Sciences
DESCRIPTION:The title and abstract for my departmental seminar are attached as requested
SUMMARY:The title and abstract for my departmental seminar are attached as requested
END:VEVENT
END:VCALENDAR