BEGIN:VCALENDAR
VERSION:2.0
PRODID:-//hacksw/handcal//NONSGML v1.0//EN
CALSCALE:GREGORIAN
BEGIN:VEVENT
DTSTART:20190314T110000Z
DTEND:20190314T120000Z
UID:e20206
DTSTAMP:20260420T081016Z
LOCATION:Max and Lillian Candiotty Building
DESCRIPTION:Vav1: A Dr. Jekyll and Mr. Hyde protein--good for the hematopoietic system\, bad for cancer
SUMMARY:Vav1: A Dr. Jekyll and Mr. Hyde protein--good for the hematopoietic system\, bad for cancer
END:VEVENT
END:VCALENDAR