BEGIN:VCALENDAR
VERSION:2.0
PRODID:-//hacksw/handcal//NONSGML v1.0//EN
CALSCALE:GREGORIAN
BEGIN:VEVENT
DTSTART:20181121T090000Z
DTEND:20181121T090000Z
UID:e20236
DTSTAMP:20260420T005445Z
LOCATION:Gerhard M.J. Schmidt Lecture Hall
DESCRIPTION:Spotlight on Science
SUMMARY:Spotlight on Science
END:VEVENT
END:VCALENDAR