BEGIN:VCALENDAR
VERSION:2.0
PRODID:-//hacksw/handcal//NONSGML v1.0//EN
CALSCALE:GREGORIAN
BEGIN:VEVENT
DTSTART:20181129T083500Z
DTEND:20181129T093000Z
UID:e20240
DTSTAMP:20260419T231704Z
LOCATION:
DESCRIPTION:Vision and Robotics Seminar
SUMMARY:Vision and Robotics Seminar
END:VEVENT
END:VCALENDAR