BEGIN:VCALENDAR
VERSION:2.0
PRODID:-//hacksw/handcal//NONSGML v1.0//EN
CALSCALE:GREGORIAN
BEGIN:VEVENT
DTSTART:20181204T090000Z
DTEND:20181204T090000Z
UID:e20248
DTSTAMP:20260419T140649Z
LOCATION:Dolfi and Lola Ebner Auditorium
DESCRIPTION:Prof. Michal Schwartz   - Will Immunotherapy defeat Alzheimer’s disease?
SUMMARY:Prof. Michal Schwartz   - Will Immunotherapy defeat Alzheimer’s disease?
END:VEVENT
END:VCALENDAR