BEGIN:VCALENDAR
VERSION:2.0
PRODID:-//hacksw/handcal//NONSGML v1.0//EN
CALSCALE:GREGORIAN
BEGIN:VEVENT
DTSTART:20190411T090000Z
DTEND:20190411T090000Z
UID:e20262
DTSTAMP:20260420T190122Z
LOCATION:Dolfi and Lola Ebner Auditorium
DESCRIPTION:Prof. Barak Dayan  - The second Quantum revolution: How the strangest effect in nature gives rise to new technologies
SUMMARY:Prof. Barak Dayan  - The second Quantum revolution: How the strangest effect in nature gives rise to new technologies
END:VEVENT
END:VCALENDAR