BEGIN:VCALENDAR
VERSION:2.0
PRODID:-//hacksw/handcal//NONSGML v1.0//EN
CALSCALE:GREGORIAN
BEGIN:VEVENT
DTSTART:20181126T103000Z
DTEND:20181126T103000Z
UID:e20290
DTSTAMP:20260420T005430Z
LOCATION:Arthur and Rochelle Belfer Building for Biomedical Research
DESCRIPTION:Department of Molecular Genetics seminar for thesis defense
SUMMARY:Department of Molecular Genetics seminar for thesis defense
END:VEVENT
END:VCALENDAR