BEGIN:VCALENDAR
VERSION:2.0
PRODID:-//hacksw/handcal//NONSGML v1.0//EN
CALSCALE:GREGORIAN
BEGIN:VEVENT
DTSTART:20181120T080000Z
DTEND:20181120T090000Z
UID:e20302
DTSTAMP:20260421T085043Z
LOCATION:Helen and Milton A. Kimmelman Building
DESCRIPTION:Carbopalladation Cascades – Not only syn\, but also anti
SUMMARY:Carbopalladation Cascades – Not only syn\, but also anti
END:VEVENT
END:VCALENDAR