BEGIN:VCALENDAR
VERSION:2.0
PRODID:-//hacksw/handcal//NONSGML v1.0//EN
CALSCALE:GREGORIAN
BEGIN:VEVENT
DTSTART:20181119T070000Z
DTEND:20181119T070000Z
UID:e20312
DTSTAMP:20260421T085241Z
LOCATION:Nella and Leon Benoziyo Building for Biological Sciences
DESCRIPTION:Special Guest Seminar
SUMMARY:Special Guest Seminar
END:VEVENT
END:VCALENDAR