BEGIN:VCALENDAR
VERSION:2.0
PRODID:-//hacksw/handcal//NONSGML v1.0//EN
CALSCALE:GREGORIAN
BEGIN:VEVENT
DTSTART:20190312T050000Z
DTEND:20190312T140000Z
UID:e20316
DTSTAMP:20260419T185616Z
LOCATION:The David Lopatie Conference Centre
DESCRIPTION:Automorphic Forms Theory. In Memory of Ilya Piatetski-Shapiro
SUMMARY:Automorphic Forms Theory. In Memory of Ilya Piatetski-Shapiro
END:VEVENT
END:VCALENDAR