BEGIN:VCALENDAR
VERSION:2.0
PRODID:-//hacksw/handcal//NONSGML v1.0//EN
CALSCALE:GREGORIAN
BEGIN:VEVENT
DTSTART:20181204T110000Z
DTEND:20181204T120000Z
UID:e20326
DTSTAMP:20260419T140646Z
LOCATION:Helen and Milton A. Kimmelman Building
DESCRIPTION:Development of an in silico method to characterize the interaction potential of protein surfaces in a crowded environment
SUMMARY:Development of an in silico method to characterize the interaction potential of protein surfaces in a crowded environment
END:VEVENT
END:VCALENDAR