BEGIN:VCALENDAR
VERSION:2.0
PRODID:-//hacksw/handcal//NONSGML v1.0//EN
CALSCALE:GREGORIAN
BEGIN:VEVENT
DTSTART:20191029T053000Z
DTEND:20191029T143000Z
UID:e20332
DTSTAMP:20260421T213514Z
LOCATION:The David Lopatie Conference Centre
DESCRIPTION:Yosef Shaul 70th birthday - From Viruses to Proteostasis
SUMMARY:Yosef Shaul 70th birthday - From Viruses to Proteostasis
END:VEVENT
END:VCALENDAR