BEGIN:VCALENDAR
VERSION:2.0
PRODID:-//hacksw/handcal//NONSGML v1.0//EN
CALSCALE:GREGORIAN
BEGIN:VEVENT
DTSTART:20190107T050000Z
DTEND:20190108T050000Z
UID:e20334
DTSTAMP:20260420T005420Z
LOCATION:The David Lopatie Conference Centre
DESCRIPTION:The Department of Science Teaching Jubilee Celebration Conference
SUMMARY:The Department of Science Teaching Jubilee Celebration Conference
END:VEVENT
END:VCALENDAR