BEGIN:VCALENDAR
VERSION:2.0
PRODID:-//hacksw/handcal//NONSGML v1.0//EN
CALSCALE:GREGORIAN
BEGIN:VEVENT
DTSTART:20190103T110000Z
DTEND:20190103T120000Z
UID:e20344
DTSTAMP:20260420T165257Z
LOCATION:Max and Lillian Candiotty Building
DESCRIPTION:TBA
SUMMARY:TBA
END:VEVENT
END:VCALENDAR