BEGIN:VCALENDAR
VERSION:2.0
PRODID:-//hacksw/handcal//NONSGML v1.0//EN
CALSCALE:GREGORIAN
BEGIN:VEVENT
DTSTART:20190102T080000Z
DTEND:20190102T090000Z
UID:e20376
DTSTAMP:20260420T005444Z
LOCATION:Perlman Chemical Sciences Building
DESCRIPTION:Stable structure of the Al-richest phases in the AT2Al20 alloys (where A = actinide/lanthanide/rare earth elements and T=transition metal)”
SUMMARY:Stable structure of the Al-richest phases in the AT2Al20 alloys (where A = actinide/lanthanide/rare earth elements and T=transition metal)”
END:VEVENT
END:VCALENDAR