BEGIN:VCALENDAR
VERSION:2.0
PRODID:-//hacksw/handcal//NONSGML v1.0//EN
CALSCALE:GREGORIAN
BEGIN:VEVENT
DTSTART:20181211T063000Z
DTEND:20181211T063000Z
UID:e20384
DTSTAMP:20260419T140626Z
LOCATION:Perlman Chemical Sciences Building
DESCRIPTION:“Diffusion NMR of out-of-equilibrium mixtures”
SUMMARY:“Diffusion NMR of out-of-equilibrium mixtures”
END:VEVENT
END:VCALENDAR