BEGIN:VCALENDAR
VERSION:2.0
PRODID:-//hacksw/handcal//NONSGML v1.0//EN
CALSCALE:GREGORIAN
BEGIN:VEVENT
DTSTART:20181127T080000Z
DTEND:20181127T080000Z
UID:e20414
DTSTAMP:20260421T051214Z
LOCATION:Sussman Family Building for Environmental Sciences
DESCRIPTION:Characteristic seasonality of low-level clouds and the subtropical anticyclone over the South Indian Ocean: Role of ocean fronts\, air-sea interaction and the stormtrack
SUMMARY:Characteristic seasonality of low-level clouds and the subtropical anticyclone over the South Indian Ocean: Role of ocean fronts\, air-sea interaction and the stormtrack
END:VEVENT
END:VCALENDAR