BEGIN:VCALENDAR
VERSION:2.0
PRODID:-//hacksw/handcal//NONSGML v1.0//EN
CALSCALE:GREGORIAN
BEGIN:VEVENT
DTSTART:20181210T111500Z
DTEND:20181210T111500Z
UID:e20430
DTSTAMP:20260419T100430Z
LOCATION:Edna and K.B. Weissman Building of Physical Sciences
DESCRIPTION:Against the flow: a colloidal Maxwell demon
SUMMARY:Against the flow: a colloidal Maxwell demon
END:VEVENT
END:VCALENDAR