BEGIN:VCALENDAR
VERSION:2.0
PRODID:-//hacksw/handcal//NONSGML v1.0//EN
CALSCALE:GREGORIAN
BEGIN:VEVENT
DTSTART:20190417T050000Z
DTEND:20190417T050000Z
UID:e20434
DTSTAMP:20260422T182759Z
LOCATION:The David Lopatie Conference Centre
DESCRIPTION:Brain connectivity in Health and Pathology
SUMMARY:Brain connectivity in Health and Pathology
END:VEVENT
END:VCALENDAR