BEGIN:VCALENDAR
VERSION:2.0
PRODID:-//hacksw/handcal//NONSGML v1.0//EN
CALSCALE:GREGORIAN
BEGIN:VEVENT
DTSTART:20181206T093000Z
DTEND:20181206T093000Z
UID:e20452
DTSTAMP:20260420T005434Z
LOCATION:Gerhard M.J. Schmidt Lecture Hall
DESCRIPTION:Learning and sleep-dependent dendritic spine plasticity and maintenance
SUMMARY:Learning and sleep-dependent dendritic spine plasticity and maintenance
END:VEVENT
END:VCALENDAR