BEGIN:VCALENDAR
VERSION:2.0
PRODID:-//hacksw/handcal//NONSGML v1.0//EN
CALSCALE:GREGORIAN
BEGIN:VEVENT
DTSTART:20190123T110000Z
DTEND:20190123T110000Z
UID:e20462
DTSTAMP:20260420T054935Z
LOCATION:Arthur and Rochelle Belfer Building for Biomedical Research
DESCRIPTION:Special Guest Seminar with Prof. Joel S. Bader
SUMMARY:Special Guest Seminar with Prof. Joel S. Bader
END:VEVENT
END:VCALENDAR