BEGIN:VCALENDAR
VERSION:2.0
PRODID:-//hacksw/handcal//NONSGML v1.0//EN
CALSCALE:GREGORIAN
BEGIN:VEVENT
DTSTART:20190117T070000Z
DTEND:20190117T070000Z
UID:e20476
DTSTAMP:20260419T100411Z
LOCATION:Arthur and Rochelle Belfer Building for Biomedical Research
DESCRIPTION:Special Guest Seminar with Ariel Schwartz
SUMMARY:Special Guest Seminar with Ariel Schwartz
END:VEVENT
END:VCALENDAR