BEGIN:VCALENDAR
VERSION:2.0
PRODID:-//hacksw/handcal//NONSGML v1.0//EN
CALSCALE:GREGORIAN
BEGIN:VEVENT
DTSTART:20181220T064500Z
DTEND:20181220T130000Z
UID:e20502
DTSTAMP:20260419T100421Z
LOCATION:Edna and K.B. Weissman Building of Physical Sciences
DESCRIPTION:Weizmann – Princeton – CNRS – HIT Plasma Workshop
SUMMARY:Weizmann – Princeton – CNRS – HIT Plasma Workshop
END:VEVENT
END:VCALENDAR