BEGIN:VCALENDAR
VERSION:2.0
PRODID:-//hacksw/handcal//NONSGML v1.0//EN
CALSCALE:GREGORIAN
BEGIN:VEVENT
DTSTART:20181220T070000Z
DTEND:20181220T080000Z
UID:e20512
DTSTAMP:20260419T100407Z
LOCATION:Perlman Chemical Sciences Building
DESCRIPTION:Effects of electron spin dynamics on DNP at 7 Tesla
SUMMARY:Effects of electron spin dynamics on DNP at 7 Tesla
END:VEVENT
END:VCALENDAR