BEGIN:VCALENDAR
VERSION:2.0
PRODID:-//hacksw/handcal//NONSGML v1.0//EN
CALSCALE:GREGORIAN
BEGIN:VEVENT
DTSTART:20181218T083000Z
DTEND:20181218T083000Z
UID:e20522
DTSTAMP:20260420T165249Z
LOCATION:Nella and Leon Benoziyo Building for Biological Sciences
DESCRIPTION:Who Wants my Half Eaten Artisanal Sandwich?: Food in The Sharing Economy
SUMMARY:Who Wants my Half Eaten Artisanal Sandwich?: Food in The Sharing Economy
END:VEVENT
END:VCALENDAR