BEGIN:VCALENDAR
VERSION:2.0
PRODID:-//hacksw/handcal//NONSGML v1.0//EN
CALSCALE:GREGORIAN
BEGIN:VEVENT
DTSTART:19691231T160000Z
DTEND:19691231T160000Z
UID:e20540
DTSTAMP:20260420T065124Z
LOCATION:
DESCRIPTION:Pelletron meeting - by invitation only
SUMMARY:Pelletron meeting - by invitation only
END:VEVENT
END:VCALENDAR