BEGIN:VCALENDAR
VERSION:2.0
PRODID:-//hacksw/handcal//NONSGML v1.0//EN
CALSCALE:GREGORIAN
BEGIN:VEVENT
DTSTART:20181219T110000Z
DTEND:20181219T123000Z
UID:e20544
DTSTAMP:20260419T100412Z
LOCATION:Perlman Chemical Sciences Building
DESCRIPTION:“Anharmonicity and Electron-Phonon Interaction in Dielectrically-Confined 2D Materials”
SUMMARY:“Anharmonicity and Electron-Phonon Interaction in Dielectrically-Confined 2D Materials”
END:VEVENT
END:VCALENDAR