BEGIN:VCALENDAR
VERSION:2.0
PRODID:-//hacksw/handcal//NONSGML v1.0//EN
CALSCALE:GREGORIAN
BEGIN:VEVENT
DTSTART:20181224T100000Z
DTEND:20181224T110000Z
UID:e20550
DTSTAMP:20260419T231726Z
LOCATION:Wolfson Building for Biological Research
DESCRIPTION:Imm Guest seminar-Shai Shen-Orr will lecture on "Cellular variability in the immune system. Where are we going and how did we get here"
SUMMARY:Imm Guest seminar-Shai Shen-Orr will lecture on "Cellular variability in the immune system. Where are we going and how did we get here"
END:VEVENT
END:VCALENDAR