BEGIN:VCALENDAR
VERSION:2.0
PRODID:-//hacksw/handcal//NONSGML v1.0//EN
CALSCALE:GREGORIAN
BEGIN:VEVENT
DTSTART:20190103T110000Z
DTEND:20190103T110000Z
UID:e20562
DTSTAMP:20260421T051222Z
LOCATION:Sussman Family Building for Environmental Sciences
DESCRIPTION:Interplay between resident ("old") and infiltrating ("new") water and corresponding dynamics of interacting reactive chemical species in porous media
SUMMARY:Interplay between resident ("old") and infiltrating ("new") water and corresponding dynamics of interacting reactive chemical species in porous media
END:VEVENT
END:VCALENDAR