BEGIN:VCALENDAR
VERSION:2.0
PRODID:-//hacksw/handcal//NONSGML v1.0//EN
CALSCALE:GREGORIAN
BEGIN:VEVENT
DTSTART:20181223T113000Z
DTEND:20181223T113000Z
UID:e20576
DTSTAMP:20260420T065125Z
LOCATION:Arthur and Rochelle Belfer Building for Biomedical Research
DESCRIPTION:ORGaNICs: A Canonical Neural Circuit Computation
SUMMARY:ORGaNICs: A Canonical Neural Circuit Computation
END:VEVENT
END:VCALENDAR