BEGIN:VCALENDAR
VERSION:2.0
PRODID:-//hacksw/handcal//NONSGML v1.0//EN
CALSCALE:GREGORIAN
BEGIN:VEVENT
DTSTART:20190103T060000Z
DTEND:20190103T070000Z
UID:e20586
DTSTAMP:20260419T173852Z
LOCATION:Max and Lillian Candiotty Building
DESCRIPTION:Medicinal Chemistry at The Weizmann Institute Who we are What we do to discover Chemical Probes
SUMMARY:Medicinal Chemistry at The Weizmann Institute Who we are What we do to discover Chemical Probes
END:VEVENT
END:VCALENDAR