BEGIN:VCALENDAR
VERSION:2.0
PRODID:-//hacksw/handcal//NONSGML v1.0//EN
CALSCALE:GREGORIAN
BEGIN:VEVENT
DTSTART:20181220T100000Z
DTEND:20181220T100000Z
UID:e20588
DTSTAMP:20260420T065138Z
LOCATION:Helen and Martin Kimmel Center for Archaeological Science
DESCRIPTION:Genome wide-data from Prehistoric Anatolians shed light on the origins of the first farmers of Anatolia
SUMMARY:Genome wide-data from Prehistoric Anatolians shed light on the origins of the first farmers of Anatolia
END:VEVENT
END:VCALENDAR