BEGIN:VCALENDAR
VERSION:2.0
PRODID:-//hacksw/handcal//NONSGML v1.0//EN
CALSCALE:GREGORIAN
BEGIN:VEVENT
DTSTART:20190115T110000Z
DTEND:20190115T120000Z
UID:e20602
DTSTAMP:20260419T100511Z
LOCATION:Helen and Milton A. Kimmelman Building
DESCRIPTION:The marvelous Phycobilisome light harvesting system: revealing mechanisms that control the flow of energy
SUMMARY:The marvelous Phycobilisome light harvesting system: revealing mechanisms that control the flow of energy
END:VEVENT
END:VCALENDAR