BEGIN:VCALENDAR
VERSION:2.0
PRODID:-//hacksw/handcal//NONSGML v1.0//EN
CALSCALE:GREGORIAN
BEGIN:VEVENT
DTSTART:20190101T110000Z
DTEND:20190101T110000Z
UID:e20630
DTSTAMP:20260421T051223Z
LOCATION:Arthur and Rochelle Belfer Building for Biomedical Research
DESCRIPTION:Neuro-Behavioral Constraints on the Acquisition  and Generation of Motor Skills
SUMMARY:Neuro-Behavioral Constraints on the Acquisition  and Generation of Motor Skills
END:VEVENT
END:VCALENDAR