BEGIN:VCALENDAR
VERSION:2.0
PRODID:-//hacksw/handcal//NONSGML v1.0//EN
CALSCALE:GREGORIAN
BEGIN:VEVENT
DTSTART:20190103T081500Z
DTEND:20190103T093000Z
UID:e20664
DTSTAMP:20260420T005446Z
LOCATION:Edna and K.B. Weissman Building of Physical Sciences
DESCRIPTION:Self-similarity in boundary layers
SUMMARY:Self-similarity in boundary layers
END:VEVENT
END:VCALENDAR