BEGIN:VCALENDAR
VERSION:2.0
PRODID:-//hacksw/handcal//NONSGML v1.0//EN
CALSCALE:GREGORIAN
BEGIN:VEVENT
DTSTART:20190117T070000Z
DTEND:20190117T080000Z
UID:e20674
DTSTAMP:20260419T100515Z
LOCATION:Perlman Chemical Sciences Building
DESCRIPTION:Using solution NMR spectroscopy to characterise the dynamics of side chains and ions in proteins
SUMMARY:Using solution NMR spectroscopy to characterise the dynamics of side chains and ions in proteins
END:VEVENT
END:VCALENDAR