BEGIN:VCALENDAR
VERSION:2.0
PRODID:-//hacksw/handcal//NONSGML v1.0//EN
CALSCALE:GREGORIAN
BEGIN:VEVENT
DTSTART:20190106T100000Z
DTEND:20190106T100000Z
UID:e20678
DTSTAMP:20260420T122238Z
LOCATION:Edna and K.B. Weissman Building of Physical Sciences
DESCRIPTION:Non-linear dynamics of beating cardiac cells
SUMMARY:Non-linear dynamics of beating cardiac cells
END:VEVENT
END:VCALENDAR