BEGIN:VCALENDAR
VERSION:2.0
PRODID:-//hacksw/handcal//NONSGML v1.0//EN
CALSCALE:GREGORIAN
BEGIN:VEVENT
DTSTART:20190113T093000Z
DTEND:20190113T093000Z
UID:e20684
DTSTAMP:20260419T100504Z
LOCATION:Nella and Leon Benoziyo Building for Brain Research
DESCRIPTION:The development of the human ventral visual stream
SUMMARY:The development of the human ventral visual stream
END:VEVENT
END:VCALENDAR