BEGIN:VCALENDAR
VERSION:2.0
PRODID:-//hacksw/handcal//NONSGML v1.0//EN
CALSCALE:GREGORIAN
BEGIN:VEVENT
DTSTART:20190117T090000Z
DTEND:20190117T100000Z
UID:e20710
DTSTAMP:20260419T100431Z
LOCATION:Arthur and Rochelle Belfer Building for Biomedical Research
DESCRIPTION:Special Guest Seminar with Dan Bracha
SUMMARY:Special Guest Seminar with Dan Bracha
END:VEVENT
END:VCALENDAR