BEGIN:VCALENDAR
VERSION:2.0
PRODID:-//hacksw/handcal//NONSGML v1.0//EN
CALSCALE:GREGORIAN
BEGIN:VEVENT
DTSTART:20190205T110000Z
DTEND:20190205T120000Z
UID:e20712
DTSTAMP:20260419T100424Z
LOCATION:Helen and Milton A. Kimmelman Building
DESCRIPTION:The molecular mechanism of Respiratory Syncytial virus assembly
SUMMARY:The molecular mechanism of Respiratory Syncytial virus assembly
END:VEVENT
END:VCALENDAR