BEGIN:VCALENDAR
VERSION:2.0
PRODID:-//hacksw/handcal//NONSGML v1.0//EN
CALSCALE:GREGORIAN
BEGIN:VEVENT
DTSTART:20190128T100000Z
DTEND:20190128T100000Z
UID:e20718
DTSTAMP:20260419T185524Z
LOCATION:Wolfson Building for Biological Research
DESCRIPTION:IMM Guest seminar-Dr. Vered Padler-Karavani will lecture on "Immunological responses against glycosylated biotherapeutics and biodevices in humans."
SUMMARY:IMM Guest seminar-Dr. Vered Padler-Karavani will lecture on "Immunological responses against glycosylated biotherapeutics and biodevices in humans."
END:VEVENT
END:VCALENDAR