BEGIN:VCALENDAR
VERSION:2.0
PRODID:-//hacksw/handcal//NONSGML v1.0//EN
CALSCALE:GREGORIAN
BEGIN:VEVENT
DTSTART:20190129T110000Z
DTEND:20190129T120000Z
UID:e20726
DTSTAMP:20260419T185533Z
LOCATION:Helen and Milton A. Kimmelman Building
DESCRIPTION:Need for new theory and simulations to understand protein behavior in cells
SUMMARY:Need for new theory and simulations to understand protein behavior in cells
END:VEVENT
END:VCALENDAR