BEGIN:VCALENDAR
VERSION:2.0
PRODID:-//hacksw/handcal//NONSGML v1.0//EN
CALSCALE:GREGORIAN
BEGIN:VEVENT
DTSTART:20190115T083000Z
DTEND:20190115T083000Z
UID:e20742
DTSTAMP:20260419T100436Z
LOCATION:Nella and Leon Benoziyo Building for Biological Sciences
DESCRIPTION:Bacterial predation in complex microbial ecosystems and its importance in trophic networks
SUMMARY:Bacterial predation in complex microbial ecosystems and its importance in trophic networks
END:VEVENT
END:VCALENDAR