BEGIN:VCALENDAR
VERSION:2.0
PRODID:-//hacksw/handcal//NONSGML v1.0//EN
CALSCALE:GREGORIAN
BEGIN:VEVENT
DTSTART:20190206T080000Z
DTEND:20190206T080000Z
UID:e20748
DTSTAMP:20260420T005450Z
LOCATION:Sussman Family Building for Environmental Sciences
DESCRIPTION:Field and Laboratory Studies of Ice Nucleation by Organic Aerosols: Insights on Phase Transitions and Glass Formation
SUMMARY:Field and Laboratory Studies of Ice Nucleation by Organic Aerosols: Insights on Phase Transitions and Glass Formation
END:VEVENT
END:VCALENDAR