BEGIN:VCALENDAR
VERSION:2.0
PRODID:-//hacksw/handcal//NONSGML v1.0//EN
CALSCALE:GREGORIAN
BEGIN:VEVENT
DTSTART:20190127T110000Z
DTEND:20190127T120000Z
UID:e20750
DTSTAMP:20260420T173653Z
LOCATION:Perlman Chemical Sciences Building
DESCRIPTION:Morphing hard and soft matter by reaction-transport dynamics
SUMMARY:Morphing hard and soft matter by reaction-transport dynamics
END:VEVENT
END:VCALENDAR