BEGIN:VCALENDAR
VERSION:2.0
PRODID:-//hacksw/handcal//NONSGML v1.0//EN
CALSCALE:GREGORIAN
BEGIN:VEVENT
DTSTART:20190205T073000Z
DTEND:20190205T073000Z
UID:e20776
DTSTAMP:20260419T100518Z
LOCATION:Dolfi and Lola Ebner Auditorium
DESCRIPTION:Chaim Leib Pekeris 26th  Memorial Lecture
SUMMARY:Chaim Leib Pekeris 26th  Memorial Lecture
END:VEVENT
END:VCALENDAR